BEGIN:VCALENDAR
VERSION:2.0
PRODID:-//Horsell Evangelical Church in Woking - ECPv6.15.15//NONSGML v1.0//EN
CALSCALE:GREGORIAN
METHOD:PUBLISH
X-ORIGINAL-URL:https://www.horsellec.org.uk
X-WR-CALDESC:Events for Horsell Evangelical Church in Woking
REFRESH-INTERVAL;VALUE=DURATION:PT1H
X-Robots-Tag:noindex
X-PUBLISHED-TTL:PT1H
BEGIN:VTIMEZONE
TZID:Europe/London
BEGIN:DAYLIGHT
TZOFFSETFROM:+0000
TZOFFSETTO:+0100
TZNAME:BST
DTSTART:20200329T010000
END:DAYLIGHT
BEGIN:STANDARD
TZOFFSETFROM:+0100
TZOFFSETTO:+0000
TZNAME:GMT
DTSTART:20201025T010000
END:STANDARD
BEGIN:DAYLIGHT
TZOFFSETFROM:+0000
TZOFFSETTO:+0100
TZNAME:BST
DTSTART:20210328T010000
END:DAYLIGHT
BEGIN:STANDARD
TZOFFSETFROM:+0100
TZOFFSETTO:+0000
TZNAME:GMT
DTSTART:20211031T010000
END:STANDARD
BEGIN:DAYLIGHT
TZOFFSETFROM:+0000
TZOFFSETTO:+0100
TZNAME:BST
DTSTART:20220327T010000
END:DAYLIGHT
BEGIN:STANDARD
TZOFFSETFROM:+0100
TZOFFSETTO:+0000
TZNAME:GMT
DTSTART:20221030T010000
END:STANDARD
BEGIN:DAYLIGHT
TZOFFSETFROM:+0000
TZOFFSETTO:+0100
TZNAME:BST
DTSTART:20230326T010000
END:DAYLIGHT
BEGIN:STANDARD
TZOFFSETFROM:+0100
TZOFFSETTO:+0000
TZNAME:GMT
DTSTART:20231029T010000
END:STANDARD
END:VTIMEZONE
BEGIN:VEVENT
DTSTART;TZID=Europe/London:20220217T130000
DTEND;TZID=Europe/London:20220217T143000
DTSTAMP:20260420T205816
CREATED:20220213T171055Z
LAST-MODIFIED:20220213T171655Z
UID:460302-1645102800-1645108200@www.horsellec.org.uk
SUMMARY:Dorothy Hayles Memorial Service
DESCRIPTION:Join us for Dorothy’s memorial service. \nLivestream from our YouTube channel or our website: \nLink 1: https://www.youtube.com/c/HorsellEvangelical \nLink 2: https://www.horsellec.org.uk/livestream-service/
URL:https://www.horsellec.org.uk/event/dorothy-hayles-memorial-service/
LOCATION:Horsell Evangelical\, GU21 4SZ\, United Kingdom
CATEGORIES:Funerals
ATTACH;FMTTYPE=image/jpeg:https://www.horsellec.org.uk/wp-content/uploads/2022/02/Dorothy2.jpg
END:VEVENT
BEGIN:VEVENT
DTSTART;TZID=Europe/London:20210818T120000
DTEND;TZID=Europe/London:20210818T140000
DTSTAMP:20260420T205816
CREATED:20210817T093230Z
LAST-MODIFIED:20210818T085914Z
UID:460087-1629288000-1629295200@www.horsellec.org.uk
SUMMARY:Betty Stewart's Funeral
DESCRIPTION:Betty Stewarts Funeral will be held at the church on Wednesday\n \nThe service will be livestreamed from our YouTube channel:\nLivestreamed Service Here… \nhttps://www.youtube.com/c/HorsellEvangelical
URL:https://www.horsellec.org.uk/event/betty-stewarts-funeral/
LOCATION:Horsell Evangelical\, GU21 4SZ\, United Kingdom
CATEGORIES:Funerals
ATTACH;FMTTYPE=image/jpeg:https://www.horsellec.org.uk/wp-content/uploads/2021/08/BettyFuneral4.jpg
END:VEVENT
END:VCALENDAR