BEGIN:VCALENDAR
VERSION:2.0
PRODID:-//Horsell Evangelical Church in Woking - ECPv6.15.15//NONSGML v1.0//EN
CALSCALE:GREGORIAN
METHOD:PUBLISH
X-WR-CALNAME:Horsell Evangelical Church in Woking
X-ORIGINAL-URL:https://www.horsellec.org.uk
X-WR-CALDESC:Events for Horsell Evangelical Church in Woking
REFRESH-INTERVAL;VALUE=DURATION:PT1H
X-Robots-Tag:noindex
X-PUBLISHED-TTL:PT1H
BEGIN:VTIMEZONE
TZID:Europe/London
BEGIN:DAYLIGHT
TZOFFSETFROM:+0000
TZOFFSETTO:+0100
TZNAME:BST
DTSTART:20210328T010000
END:DAYLIGHT
BEGIN:STANDARD
TZOFFSETFROM:+0100
TZOFFSETTO:+0000
TZNAME:GMT
DTSTART:20211031T010000
END:STANDARD
BEGIN:DAYLIGHT
TZOFFSETFROM:+0000
TZOFFSETTO:+0100
TZNAME:BST
DTSTART:20220327T010000
END:DAYLIGHT
BEGIN:STANDARD
TZOFFSETFROM:+0100
TZOFFSETTO:+0000
TZNAME:GMT
DTSTART:20221030T010000
END:STANDARD
BEGIN:DAYLIGHT
TZOFFSETFROM:+0000
TZOFFSETTO:+0100
TZNAME:BST
DTSTART:20230326T010000
END:DAYLIGHT
BEGIN:STANDARD
TZOFFSETFROM:+0100
TZOFFSETTO:+0000
TZNAME:GMT
DTSTART:20231029T010000
END:STANDARD
END:VTIMEZONE
BEGIN:VEVENT
DTSTART;TZID=Europe/London:20221008T130000
DTEND;TZID=Europe/London:20221008T160000
DTSTAMP:20260421T184055
CREATED:20220910T145949Z
LAST-MODIFIED:20220922T160425Z
UID:460397-1665234000-1665244800@www.horsellec.org.uk
SUMMARY:Church Walk
DESCRIPTION:Fancy an easy walk and some Christian fellowship? \nJoin us for our regular Church walks (various locations)\, and have a natter while enjoying some excercise together. \nPlease see Abi or Liz for walk location details.
URL:https://www.horsellec.org.uk/event/church-walk/
CATEGORIES:Church Events
ATTACH;FMTTYPE=image/jpeg:https://www.horsellec.org.uk/wp-content/uploads/2022/09/churchWalk.jpg
END:VEVENT
END:VCALENDAR