BEGIN:VCALENDAR
VERSION:2.0
PRODID:-//Horsell Evangelical Church in Woking - ECPv6.15.15//NONSGML v1.0//EN
CALSCALE:GREGORIAN
METHOD:PUBLISH
X-ORIGINAL-URL:https://www.horsellec.org.uk
X-WR-CALDESC:Events for Horsell Evangelical Church in Woking
REFRESH-INTERVAL;VALUE=DURATION:PT1H
X-Robots-Tag:noindex
X-PUBLISHED-TTL:PT1H
BEGIN:VTIMEZONE
TZID:Europe/London
BEGIN:DAYLIGHT
TZOFFSETFROM:+0000
TZOFFSETTO:+0100
TZNAME:BST
DTSTART:20210328T010000
END:DAYLIGHT
BEGIN:STANDARD
TZOFFSETFROM:+0100
TZOFFSETTO:+0000
TZNAME:GMT
DTSTART:20211031T010000
END:STANDARD
BEGIN:DAYLIGHT
TZOFFSETFROM:+0000
TZOFFSETTO:+0100
TZNAME:BST
DTSTART:20220327T010000
END:DAYLIGHT
BEGIN:STANDARD
TZOFFSETFROM:+0100
TZOFFSETTO:+0000
TZNAME:GMT
DTSTART:20221030T010000
END:STANDARD
BEGIN:DAYLIGHT
TZOFFSETFROM:+0000
TZOFFSETTO:+0100
TZNAME:BST
DTSTART:20230326T010000
END:DAYLIGHT
BEGIN:STANDARD
TZOFFSETFROM:+0100
TZOFFSETTO:+0000
TZNAME:GMT
DTSTART:20231029T010000
END:STANDARD
END:VTIMEZONE
BEGIN:VEVENT
DTSTART;TZID=Europe/London:20220319T180000
DTEND;TZID=Europe/London:20220319T210000
DTSTAMP:20260422T033738
CREATED:20220308T154321Z
LAST-MODIFIED:20220309T152644Z
UID:460317-1647712800-1647723600@www.horsellec.org.uk
SUMMARY:Film Night - The Lost Medallion
DESCRIPTION:Contact Andy beforehand if you want to order food. \nChildrens and Adults Film Night \nThe Lost Medallion (PG Rating) \nArchaeologist Dr. Michael Stone looked for the lost medallion his entire life\, and now his son Billy has taken up the search. Amazingly\, the medallion ends up in Billy’s hands and a spontaneous wish in a precarious situation takes him and his best friend Allie back 200 years to what they realize is a very different Aumakua Island. When Billy and his friends are not jumping off waterfalls\, avoiding animal traps\, crossing the ocean\, sneaking through caves or escaping a prison\, they’re facing their nemesis Cobra\, who wants nothing more than for them all to disappear. With no other way to get home\, and the well-being of the entire island resting on his shoulders\, Billy must discover the key to reclaiming the medallion and its tremendous power. One way or another\, this adventure will change Billy and life on the island forever
URL:https://www.horsellec.org.uk/event/film-night-the-lost-medallion/
LOCATION:Horsell Evangelical\, GU21 4SZ\, United Kingdom
CATEGORIES:Church Events
ATTACH;FMTTYPE=image/jpeg:https://www.horsellec.org.uk/wp-content/uploads/2022/03/filmNightFeatured-2.jpg
END:VEVENT
BEGIN:VEVENT
DTSTART;TZID=Europe/London:20220323T193000
DTEND;TZID=Europe/London:20220323T210000
DTSTAMP:20260422T033738
CREATED:20220309T154442Z
LAST-MODIFIED:20220309T154442Z
UID:460351-1648063800-1648069200@www.horsellec.org.uk
SUMMARY:United Prayer Meeting
DESCRIPTION:Join us for the United Prayer Meeting in connection with Chilworth Free\, Horsley Evangelical\, Providence Baptist and hosted by Horsell Evangelical Church.
URL:https://www.horsellec.org.uk/event/united-prayer-meeting/
LOCATION:Horsell Evangelical\, GU21 4SZ\, United Kingdom
CATEGORIES:Church Events
ATTACH;FMTTYPE=image/jpeg:https://www.horsellec.org.uk/wp-content/uploads/2021/01/United-Prayer-Meetings-Church-Group-scaled.jpg
END:VEVENT
BEGIN:VEVENT
DTSTART;TZID=Europe/London:20220326T093000
DTEND;TZID=Europe/London:20220326T113000
DTSTAMP:20260422T033738
CREATED:20220309T152336Z
LAST-MODIFIED:20220309T153804Z
UID:460340-1648287000-1648294200@www.horsellec.org.uk
SUMMARY:Mens Breakfast
DESCRIPTION:Come join us for an informal mens breakfast. All tasty and all free. Contact us to find out more. \n 
URL:https://www.horsellec.org.uk/event/mens-breakfast/
LOCATION:Horsell Evangelical\, GU21 4SZ\, United Kingdom
CATEGORIES:Church Events
ATTACH;FMTTYPE=image/jpeg:https://www.horsellec.org.uk/wp-content/uploads/2022/03/Breakie.jpg
END:VEVENT
END:VCALENDAR