BEGIN:VCALENDAR
VERSION:2.0
PRODID:-//Horsell Evangelical Church in Woking - ECPv6.15.15//NONSGML v1.0//EN
CALSCALE:GREGORIAN
METHOD:PUBLISH
X-WR-CALNAME:Horsell Evangelical Church in Woking
X-ORIGINAL-URL:https://www.horsellec.org.uk
X-WR-CALDESC:Events for Horsell Evangelical Church in Woking
REFRESH-INTERVAL;VALUE=DURATION:PT1H
X-Robots-Tag:noindex
X-PUBLISHED-TTL:PT1H
BEGIN:VTIMEZONE
TZID:Europe/London
BEGIN:DAYLIGHT
TZOFFSETFROM:+0000
TZOFFSETTO:+0100
TZNAME:BST
DTSTART:20200329T010000
END:DAYLIGHT
BEGIN:STANDARD
TZOFFSETFROM:+0100
TZOFFSETTO:+0000
TZNAME:GMT
DTSTART:20201025T010000
END:STANDARD
BEGIN:DAYLIGHT
TZOFFSETFROM:+0000
TZOFFSETTO:+0100
TZNAME:BST
DTSTART:20210328T010000
END:DAYLIGHT
BEGIN:STANDARD
TZOFFSETFROM:+0100
TZOFFSETTO:+0000
TZNAME:GMT
DTSTART:20211031T010000
END:STANDARD
BEGIN:DAYLIGHT
TZOFFSETFROM:+0000
TZOFFSETTO:+0100
TZNAME:BST
DTSTART:20220327T010000
END:DAYLIGHT
BEGIN:STANDARD
TZOFFSETFROM:+0100
TZOFFSETTO:+0000
TZNAME:GMT
DTSTART:20221030T010000
END:STANDARD
END:VTIMEZONE
BEGIN:VEVENT
DTSTART;TZID=Europe/London:20211204T133000
DTEND;TZID=Europe/London:20211204T173000
DTSTAMP:20260422T074336
CREATED:20211118T101945Z
LAST-MODIFIED:20211118T102726Z
UID:460231-1638624600-1638639000@www.horsellec.org.uk
SUMMARY:Horsell Christmas Market
DESCRIPTION:The Horsell Christmas Market is an annual community event with live music\, refreshments\, and an opportunity to pick up early Christmas presents from the stalls.  As a church we support the local community in providing a warm space for activities and refreshements as part of the event. In our church hall there will be stalls\, children’s crafts and refreshments. \nInfo taken from the Horsell Residents Website:\nhttps://horsellresidents.com/Home/ChristmasMarket \nThis is a real celebration of all the gifted creativity\, musical skills and generosity of local residents\, shops and businesses working cooperatively together to put on a great Christmas Event. Along with the Christmas Tree Festival at St Mary’s Church and the PTA Christmas fair\, this promises to be a wonderful community day! \n\n\nHorsell High Street will be buzzing with more than 40 stalls\, shops selling Christmas goodies\, live music\, street food from The Crown to Horsell Kitchen and the Evangelical Church. Don’t miss 15 stalls in the Evangelical Church hall and carpark (behind Café Primo) with a saxophone quartet in the lobby. Christmas gifts and crafts galore with jewellery\, cards\, Usborne books\, perfumes\, fused glass\, cakes\, Indian snacks\, paella\, Horsell bangers and burgers\, mulled wine\, mince pies and Thurstons local brew and Horsell uncommon gin. Not forgetting Father Christmas and goodie bags. \n  \nDownload Christmas Market poster
URL:https://www.horsellec.org.uk/event/horsell-christmas-market/
LOCATION:Horsell Evangelical\, GU21 4SZ\, United Kingdom
CATEGORIES:Church Events
ATTACH;FMTTYPE=image/jpeg:https://www.horsellec.org.uk/wp-content/uploads/2021/11/2021.4-p8-9-Christmas-Market-Map-scaled.jpg
END:VEVENT
END:VCALENDAR